BEGIN:VCALENDAR
VERSION:2.0
PRODID:icalendar-ruby
CALSCALE:GREGORIAN
METHOD:PUBLISH
BEGIN:VEVENT
DTSTAMP:20260426T011822Z
UID:14-697538@hamiltonfwb.com
DTSTART:20261012T233000Z
DTEND:20261013T003000Z
CLASS:PUBLIC
CREATED:20260425T175537
DESCRIPTION:Women's Small Group
LAST-MODIFIED:20260425T175537
LOCATION:TBD
SUMMARY:Women's Small Group
URL;VALUE=URI:https://www.hamiltonfwb.com/events/womens-small-group/2026-10
 -12
ATTACH;FILENAME=Women Bible Study 1.jpeg;FMTTYPE=image/jpeg:https://dq5pwpg
 1q8ru0.cloudfront.net/2024/09/05/20/21/07/3b16a99d-d456-4fd9-adf2-c5336f5f
 1875/Women%20Bible%20Study%201.jpeg
END:VEVENT
END:VCALENDAR
