BEGIN:VCALENDAR
VERSION:2.0
PRODID:icalendar-ruby
CALSCALE:GREGORIAN
METHOD:PUBLISH
BEGIN:VEVENT
DTSTAMP:20260422T112839Z
UID:11-683633@hamiltonfwb.com
DTSTART:20261011T140000Z
DTEND:20261011T150000Z
CLASS:PUBLIC
CREATED:20260421T201443
DESCRIPTION:Sunday School
LAST-MODIFIED:20260421T201443
LOCATION:
SUMMARY:Sunday School 
URL;VALUE=URI:https://www.hamiltonfwb.com/events/sunday-school/2026-10-11
ATTACH;FILENAME=Sunday School.jpeg;FMTTYPE=image/jpeg:https://dq5pwpg1q8ru0
 .cloudfront.net/2024/09/05/20/38/38/259309a1-7466-4783-b0d1-f964a8ef98a3/S
 unday%20School.jpeg
END:VEVENT
END:VCALENDAR
